BEGIN:VCALENDAR
VERSION:2.0
PRODID:SchoolNow
CALSCALE:GREGORIAN
BEGIN:VEVENT
UID:9dbebfd2-1a3c-11f0-8a6a-0a58a9feac02
DTSTAMP:20260420T005509Z
SUMMARY:NHS Induction Ceremony
LOCATION:WHS-1-175 - Auditorium (700)
URL;VALUE=URI:https://www.cusd201.org/calendar/7932876/nhs-induction-ceremo
 ny
DTSTART:20260417T000000Z
DTEND:20260417T020000Z
END:VEVENT
END:VCALENDAR
