BEGIN:VCALENDAR
VERSION:2.0
PRODID:SchoolNow
CALSCALE:GREGORIAN
BEGIN:VEVENT
UID:02498fa6-2c29-11f0-93bb-0a58a9feac02
DTSTAMP:20260420T005509Z
SUMMARY:School Improvement Day - Early Dismissal
URL;VALUE=URI:https://www.cusd201.org/calendar/8090644/school-improvement-d
 ay-early-dismissal
DTSTART;VALUE=DATE:20260311
DTEND;VALUE=DATE:20260312
END:VEVENT
END:VCALENDAR
