BEGIN:VCALENDAR
VERSION:2.0
PRODID:SchoolNow
CALSCALE:GREGORIAN
BEGIN:VEVENT
UID:ff7e4324-2c5b-11f0-babd-0a58a9feac02
DTSTAMP:20260420T005509Z
SUMMARY:11th Annual Chicagoland A.P. Consortium Conference
URL;VALUE=URI:https://www.cusd201.org/calendar/8092757/11th-annual-chicagol
 and-a-p-consortium-conference
DTSTART;VALUE=DATE:20260518
DTEND;VALUE=DATE:20260519
END:VEVENT
END:VCALENDAR
