BEGIN:VCALENDAR
VERSION:2.0
PRODID:SchoolNow
CALSCALE:GREGORIAN
BEGIN:VEVENT
UID:ff7e457c-2c5b-11f0-b296-0a58a9feac02
DTSTAMP:20260420T005509Z
SUMMARY:Elementary Grade Level Concert #3
LOCATION:WHS-1-175 - Auditorium (700)
URL;VALUE=URI:https://www.cusd201.org/calendar/8092759/elementary-grade-lev
 el-concert-3
DTSTART:20260423T230000Z
DTEND:20260424T010000Z
END:VEVENT
END:VCALENDAR
