BEGIN:VCALENDAR
VERSION:2.0
PRODID:SchoolNow
CALSCALE:GREGORIAN
BEGIN:VEVENT
UID:ffb127a8-2c5b-11f0-9ae9-0a58a9feac02
DTSTAMP:20260420T005509Z
SUMMARY:No School - Winter Break
URL;VALUE=URI:https://www.cusd201.org/calendar/8092768/no-school-winter-bre
 ak
DTSTART;VALUE=DATE:20251223
DTEND;VALUE=DATE:20251224
END:VEVENT
END:VCALENDAR
