BEGIN:VCALENDAR
VERSION:2.0
PRODID:SchoolNow
CALSCALE:GREGORIAN
BEGIN:VEVENT
UID:ffb128f2-2c5b-11f0-9fb9-0a58a9feac02
DTSTAMP:20260420T005509Z
SUMMARY:No School - Winter Break
URL;VALUE=URI:https://www.cusd201.org/calendar/8092769/no-school-winter-bre
 ak
DTSTART;VALUE=DATE:20251224
DTEND;VALUE=DATE:20251225
END:VEVENT
END:VCALENDAR
