BEGIN:VCALENDAR
VERSION:2.0
PRODID:SchoolNow
CALSCALE:GREGORIAN
BEGIN:VEVENT
UID:ffb1323e-2c5b-11f0-b792-0a58a9feac02
DTSTAMP:20260420T005509Z
SUMMARY:WHS Spring Musical - Performance
LOCATION:WHS-1-175 - Auditorium (700)
URL;VALUE=URI:https://www.cusd201.org/calendar/8092779/whs-spring-musical-p
 erformance
DTSTART:20260222T200000Z
DTEND:20260222T220000Z
END:VEVENT
END:VCALENDAR
