BEGIN:VCALENDAR
VERSION:2.0
PRODID:SchoolNow
CALSCALE:GREGORIAN
BEGIN:VEVENT
UID:ffb13608-2c5b-11f0-a4c8-0a58a9feac02
DTSTAMP:20260420T005509Z
SUMMARY:No School - Spring Break
URL;VALUE=URI:https://www.cusd201.org/calendar/8092783/no-school-spring-bre
 ak
DTSTART;VALUE=DATE:20260402
DTEND;VALUE=DATE:20260403
END:VEVENT
END:VCALENDAR
