BEGIN:VCALENDAR
VERSION:2.0
PRODID:SchoolNow
CALSCALE:GREGORIAN
BEGIN:VEVENT
UID:f53367f6-2d27-11f0-ae43-0a58a9feac02
DTSTAMP:20260420T005509Z
SUMMARY:WJHS and WHS Choir Concert
LOCATION:WHS-1-175 - Auditorium (700)
URL;VALUE=URI:https://www.cusd201.org/calendar/8100290/wjhs-and-whs-choir-c
 oncert
DTSTART:20260311T000000Z
DTEND:20260311T020000Z
END:VEVENT
END:VCALENDAR
