BEGIN:VCALENDAR
VERSION:2.0
PRODID:SchoolNow
CALSCALE:GREGORIAN
BEGIN:VEVENT
UID:d61b02be-2f8b-11f0-a137-0a58a9feac02
DTSTAMP:20260420T005509Z
SUMMARY:WHS Band & Choir Spring Concert
LOCATION:WHS-1-175 - Auditorium (700)
URL;VALUE=URI:https://www.cusd201.org/calendar/8121132/whs-band-choir-sprin
 g-concert
DTSTART:20260430T000000Z
DTEND:20260430T020000Z
END:VEVENT
END:VCALENDAR
