BEGIN:VCALENDAR
VERSION:2.0
PRODID:SchoolNow
CALSCALE:GREGORIAN
BEGIN:VEVENT
UID:2978dc14-3ce4-11f0-a19e-0e94a598932d
DTSTAMP:20260420T005509Z
SUMMARY:CUSD 201 School Board Meeting
LOCATION:South School\, 133 S Grant St\, Westmont\, IL 60559\, USA\, South-
 1-Conference Room (50)
URL;VALUE=URI:https://www.cusd201.org/calendar/8222416/cusd-201-school-boar
 d-meeting
DTSTART:20260114T003000Z
DTEND:20260114T030000Z
END:VEVENT
END:VCALENDAR
