BEGIN:VCALENDAR
VERSION:2.0
PRODID:SchoolNow
CALSCALE:GREGORIAN
BEGIN:VEVENT
UID:2978dd04-3ce4-11f0-ac4f-0e94a598932d
DTSTAMP:20260420T005509Z
SUMMARY:CUSD 201 School Board Meeting
LOCATION:Village of Westmont: Village Hall\, 31 W Quincy St\, Westmont\, IL
  60559\, USA
URL;VALUE=URI:https://www.cusd201.org/calendar/8222417/cusd-201-school-boar
 d-meeting
DTSTART:20260128T000000Z
DTEND:20260128T023000Z
END:VEVENT
END:VCALENDAR
