BEGIN:VCALENDAR
VERSION:2.0
PRODID:SchoolNow
CALSCALE:GREGORIAN
BEGIN:VEVENT
UID:f8a73910-40ac-11f0-b904-0a58a9feac02
DTSTAMP:20260420T005509Z
SUMMARY:CUSD 201 School Board Meeting
LOCATION:Village of Westmont: Village Hall\, 31 W Quincy St\, Westmont\, IL
  60559\, USA
URL;VALUE=URI:https://www.cusd201.org/calendar/8246894/cusd-201-school-boar
 d-meeting
DTSTART:20260519T233000Z
DTEND:20260520T020000Z
END:VEVENT
END:VCALENDAR
