BEGIN:VCALENDAR
VERSION:2.0
PRODID:SchoolNow
CALSCALE:GREGORIAN
BEGIN:VEVENT
UID:ee1adcfa-4178-11f0-b021-0a58a9feac02
DTSTAMP:20260420T005509Z
SUMMARY:Preschool Screening
URL;VALUE=URI:https://www.cusd201.org/calendar/8252581/preschool-screening
DTSTART:20260211T140000Z
DTEND:20260211T170000Z
END:VEVENT
END:VCALENDAR
