BEGIN:VCALENDAR
VERSION:2.0
PRODID:SchoolNow
CALSCALE:GREGORIAN
BEGIN:VEVENT
UID:ee1ade26-4178-11f0-95d5-0a58a9feac02
DTSTAMP:20260420T005509Z
SUMMARY:Preschool Screening
URL;VALUE=URI:https://www.cusd201.org/calendar/8252582/preschool-screening
DTSTART:20260311T130000Z
DTEND:20260311T160000Z
END:VEVENT
END:VCALENDAR
