BEGIN:VCALENDAR
VERSION:2.0
PRODID:SchoolNow
CALSCALE:GREGORIAN
BEGIN:VEVENT
UID:ee1adf02-4178-11f0-b549-0a58a9feac02
DTSTAMP:20260420T005509Z
SUMMARY:Preschool Screening
URL;VALUE=URI:https://www.cusd201.org/calendar/8252583/preschool-screening
DTSTART:20260429T130000Z
DTEND:20260429T160000Z
END:VEVENT
END:VCALENDAR
