BEGIN:VCALENDAR
VERSION:2.0
PRODID:SchoolNow
CALSCALE:GREGORIAN
BEGIN:VEVENT
UID:eb8ecd6a-41ab-11f0-97a2-0a58a9feac02
DTSTAMP:20260420T005509Z
SUMMARY:Early Dismissal
URL;VALUE=URI:https://www.cusd201.org/calendar/8254263/early-dismissal
DTSTART;VALUE=DATE:20260327
DTEND;VALUE=DATE:20260328
END:VEVENT
END:VCALENDAR
