BEGIN:VCALENDAR
VERSION:2.0
PRODID:SchoolNow
CALSCALE:GREGORIAN
BEGIN:VEVENT
UID:5e1cb5aa-4ca0-11f0-8b7b-029d7fc60ead
DTSTAMP:20260420T005509Z
SUMMARY:WJHS Graduation
LOCATION:Westmont High School\, 909 Oakwood Dr\, Westmont\, IL 60559\, USA\
 , WHS-1-175 - Auditorium (700)\, WHS-1-Commons (500)
URL;VALUE=URI:https://www.cusd201.org/calendar/8325958/wjhs-graduation
DTSTART:20260529T000000Z
DTEND:20260529T020000Z
END:VEVENT
END:VCALENDAR
