BEGIN:VCALENDAR
VERSION:2.0
PRODID:SchoolNow
CALSCALE:GREGORIAN
BEGIN:VEVENT
UID:f0985538-885f-11f0-b01a-0a58a9feac02
DTSTAMP:20260420T005509Z
SUMMARY:5th Grade Step Up Night
URL;VALUE=URI:https://www.cusd201.org/calendar/8572739/5th-grade-step-up-ni
 ght
DTSTART:20260409T233000Z
DTEND:20260410T003000Z
END:VEVENT
END:VCALENDAR
