BEGIN:VCALENDAR
VERSION:2.0
PRODID:SchoolNow
CALSCALE:GREGORIAN
BEGIN:VEVENT
UID:f09873ce-885f-11f0-acf4-0a58a9feac02
DTSTAMP:20260420T005509Z
SUMMARY:WJHS 5th Gr visit
URL;VALUE=URI:https://www.cusd201.org/calendar/8572740/wjhs-5th-gr-visit
DTSTART:20260521T144500Z
DTEND:20260521T161500Z
END:VEVENT
END:VCALENDAR
