BEGIN:VCALENDAR
VERSION:2.0
PRODID:SchoolNow
CALSCALE:GREGORIAN
BEGIN:VEVENT
UID:a117d8a2-8e8c-11f0-a409-0a58a9feac02
DTSTAMP:20260420T005509Z
SUMMARY:Washington DC 8th Grade
URL;VALUE=URI:https://www.cusd201.org/calendar/8606412/washington-dc-8th-gr
 ade
DTSTART;VALUE=DATE:20260429
DTEND;VALUE=DATE:20260502
END:VEVENT
END:VCALENDAR
