BEGIN:VCALENDAR
VERSION:2.0
PRODID:SchoolNow
CALSCALE:GREGORIAN
BEGIN:VEVENT
UID:fe56f06e-9b18-11f0-b759-0263e3e5e0d7
DTSTAMP:20260420T005509Z
SUMMARY:Finance and Facilities Committee Meeting
LOCATION:Village of Westmont: Village Hall\, 31 W Quincy St\, Westmont\, IL
  60559\, USA
URL;VALUE=URI:https://www.cusd201.org/calendar/8668163/finance-and-faciliti
 es-committee-meeting
DTSTART:20260210T233000Z
DTEND:20260211T003000Z
END:VEVENT
END:VCALENDAR
