BEGIN:VCALENDAR
VERSION:2.0
PRODID:SchoolNow
CALSCALE:GREGORIAN
BEGIN:VEVENT
UID:fe56f190-9b18-11f0-9f08-0263e3e5e0d7
DTSTAMP:20260420T005509Z
SUMMARY:Cancelled - PR Committee Meeting
URL;VALUE=URI:https://www.cusd201.org/calendar/8668164/cancelled-pr-committ
 ee-meeting
DTSTART:20260224T233000Z
DTEND:20260225T003000Z
END:VEVENT
END:VCALENDAR
