BEGIN:VCALENDAR
VERSION:2.0
PRODID:SchoolNow
CALSCALE:GREGORIAN
BEGIN:VEVENT
UID:fe56f2da-9b18-11f0-bd0a-0263e3e5e0d7
DTSTAMP:20260420T005509Z
SUMMARY:Finance and Facilities Commitee Meeting
LOCATION:Village of Westmont: Village Hall\, 31 W Quincy St\, Westmont\, IL
  60559\, USA
URL;VALUE=URI:https://www.cusd201.org/calendar/8668165/finance-and-faciliti
 es-commitee-meeting
DTSTART:20260318T223000Z
DTEND:20260318T233000Z
END:VEVENT
END:VCALENDAR
