BEGIN:VCALENDAR
VERSION:2.0
PRODID:SchoolNow
CALSCALE:GREGORIAN
BEGIN:VEVENT
UID:fe56f3d4-9b18-11f0-9bec-0263e3e5e0d7
DTSTAMP:20260420T005509Z
SUMMARY:PR Committee Meeting
LOCATION:Village of Westmont: Village Hall\, 31 W Quincy St\, Westmont\, IL
  60559\, USA
URL;VALUE=URI:https://www.cusd201.org/calendar/8668166/pr-committee-meeting
DTSTART:20260414T223000Z
DTEND:20260414T233000Z
END:VEVENT
END:VCALENDAR
