BEGIN:VCALENDAR
VERSION:2.0
PRODID:SchoolNow
CALSCALE:GREGORIAN
BEGIN:VEVENT
UID:4385214e-c637-11f0-a203-0a58a9feac02
DTSTAMP:20260420T005509Z
SUMMARY:South School Family Night
LOCATION:South School\, 133 S Grant St\, Westmont\, IL 60559\, USA
URL;VALUE=URI:https://www.cusd201.org/calendar/8805412/south-school-family-
 night
DTSTART:20260120T230000Z
DTEND:20260121T000000Z
END:VEVENT
END:VCALENDAR
