BEGIN:VCALENDAR
VERSION:2.0
PRODID:SchoolNow
CALSCALE:GREGORIAN
BEGIN:VEVENT
UID:bebfd0c4-f009-11f0-8782-0a58a9feac02
DTSTAMP:20260420T005509Z
SUMMARY:Daddy Daughter Dance
LOCATION:Westmont High School\, 909 Oakwood Dr\, Westmont\, IL 60559\, USA\
 , WHS-1-183 - Gym (1000)
URL;VALUE=URI:https://www.cusd201.org/calendar/8835223/daddy-daughter-dance
DTSTART:20260124T233000Z
DTEND:20260125T013000Z
END:VEVENT
END:VCALENDAR
