BEGIN:VCALENDAR
VERSION:2.0
PRODID:SchoolNow
CALSCALE:GREGORIAN
BEGIN:VEVENT
UID:9fb0a724-f26d-11f0-b819-0a58a9feac02
DTSTAMP:20260420T005509Z
SUMMARY:Finance and Facilities Committee Meeting
LOCATION:Village of Westmont: Village Hall\, 31 W Quincy St\, Westmont\, IL
  60559\, USA
URL;VALUE=URI:https://www.cusd201.org/calendar/8836812/finance-and-faciliti
 es-committee-meeting
DTSTART:20260224T233000Z
DTEND:20260225T003000Z
END:VEVENT
END:VCALENDAR
