BEGIN:VCALENDAR
VERSION:2.0
PRODID:SchoolNow
CALSCALE:GREGORIAN
BEGIN:VEVENT
UID:6988deae-f69c-11f0-bab2-0e9a8e1f9761
DTSTAMP:20260420T005509Z
SUMMARY:WHS Incoming 9th Gr Night
LOCATION:WHS-1-Commons (500)
URL;VALUE=URI:https://www.cusd201.org/calendar/8838605/whs-incoming-9th-gr-
 night
DTSTART:20260220T003000Z
DTEND:20260220T023000Z
END:VEVENT
END:VCALENDAR
