BEGIN:VCALENDAR
VERSION:2.0
PRODID:SchoolNow
CALSCALE:GREGORIAN
BEGIN:VEVENT
UID:5a54f9da-f7ce-11f0-9390-028f6ff41f89
DTSTAMP:20260420T005509Z
SUMMARY:eLearning Day - No Student Attendance Inclement Weather
URL;VALUE=URI:https://www.cusd201.org/calendar/8839380/elearning-day-no-stu
 dent-attendance-inclement-weather
DTSTART;VALUE=DATE:20260123
DTEND;VALUE=DATE:20260124
END:VEVENT
END:VCALENDAR
