BEGIN:VCALENDAR
VERSION:2.0
PRODID:SchoolNow
CALSCALE:GREGORIAN
BEGIN:VEVENT
UID:369baf74-1c0f-11f1-86d8-0affcb1ebcd7
DTSTAMP:20260420T005509Z
SUMMARY:Annual Title I Family Meeting
URL;VALUE=URI:https://www.cusd201.org/calendar/8905226/annual-title-i-famil
 y-meeting
DTSTART:20260407T233000Z
DTEND:20260408T000000Z
END:VEVENT
END:VCALENDAR
