BEGIN:VCALENDAR
VERSION:2.0
PRODID:SchoolNow
CALSCALE:GREGORIAN
BEGIN:VEVENT
UID:05c5be06-3390-11f1-b983-0a58a9feac02
DTSTAMP:20260420T005509Z
SUMMARY:BPAC Meeting
LOCATION:WHS-1-Commons (500)
URL;VALUE=URI:https://www.cusd201.org/calendar/8979935/bpac-meeting
DTSTART:20260512T220000Z
DTEND:20260512T230000Z
END:VEVENT
END:VCALENDAR
