BEGIN:VCALENDAR
VERSION:2.0
PRODID:SchoolNow
CALSCALE:GREGORIAN
BEGIN:VEVENT
UID:fba7a1b0-345b-11f1-a72d-0a58a9feac02
DTSTAMP:20260420T005509Z
SUMMARY:Athletic Committee Meeting
LOCATION:Westmont High School\, 909 Oakwood Dr\, Westmont\, IL 60559\, USA
URL;VALUE=URI:https://www.cusd201.org/calendar/8982605/athletic-committee-m
 eeting
DTSTART:20260513T230000Z
DTEND:20260514T000000Z
END:VEVENT
END:VCALENDAR
