BEGIN:VCALENDAR
VERSION:2.0
PRODID:SchoolNow
CALSCALE:GREGORIAN
BEGIN:VEVENT
UID:e47212e2-3626-11f1-898c-0a58a9feac02
DTSTAMP:20260420T005509Z
SUMMARY:WHS Senior Awards Ceremony
LOCATION:Westmont High School\, 909 Oakwood Dr\, Westmont\, IL 60559\, USA\
 , WHS-1-175 - Auditorium (700)
URL;VALUE=URI:https://www.cusd201.org/calendar/8987683/whs-senior-awards-ce
 remony
DTSTART:20260520T180500Z
DTEND:20260520T191500Z
ATTACH;FILENAME=Notes - WHS Senior Awards Ceremony;FMTTYPE=application/octe
 t-stream:https://docs.google.com/document/d/1W3x9pYnIwB2R7jXVM8l9YgZHgZFX_
 eDoIKwvC5f00KU/edit
END:VEVENT
END:VCALENDAR
