BEGIN:VCALENDAR
VERSION:2.0
PRODID:SchoolNow
CALSCALE:GREGORIAN
BEGIN:VEVENT
UID:e5068c9c-3626-11f1-9be9-0a58a9feac02
DTSTAMP:20260420T005509Z
SUMMARY:WHS Final Exams
URL;VALUE=URI:https://www.cusd201.org/calendar/8987724/whs-final-exams
DTSTART;VALUE=DATE:20260528
DTEND;VALUE=DATE:20260529
END:VEVENT
END:VCALENDAR
