BEGIN:VCALENDAR
VERSION:2.0
PRODID:SchoolNow
CALSCALE:GREGORIAN
BEGIN:VEVENT
UID:c1db31f6-f46d-11ef-88c1-0afffb5139a5
DTSTAMP:20260421T133510Z
SUMMARY:Vision and Hearing Screenings
URL;VALUE=URI:https://www.cusd201.org/manning/calendar/7554990/vision-and-h
 earing-screenings
DTSTART;VALUE=DATE:20260223
DTEND;VALUE=DATE:20260224
END:VEVENT
END:VCALENDAR
