BEGIN:VCALENDAR
VERSION:2.0
PRODID:SchoolNow
CALSCALE:GREGORIAN
BEGIN:VEVENT
UID:c1db332c-f46d-11ef-865b-0afffb5139a5
DTSTAMP:20260421T133510Z
SUMMARY:Vision and Hearing Re-screenings
URL;VALUE=URI:https://www.cusd201.org/manning/calendar/7554991/vision-and-h
 earing-re-screenings
DTSTART;VALUE=DATE:20260309
DTEND;VALUE=DATE:20260310
END:VEVENT
END:VCALENDAR
