BEGIN:VCALENDAR
VERSION:2.0
PRODID:SchoolNow
CALSCALE:GREGORIAN
BEGIN:VEVENT
UID:0669007c-2b9c-11f0-8dca-0a58a9feac02
DTSTAMP:20260421T133510Z
SUMMARY:STEM Night 2026
LOCATION:Westmont High School\, 909 Oakwood Dr\, Westmont\, IL 60559\, USA\
 , WHS-1-Commons (500)\, WHS-1-175 - Auditorium (700)
URL;VALUE=URI:https://www.cusd201.org/manning/calendar/8086499/stem-night-2
 026
DTSTART:20260212T000000Z
DTEND:20260212T020000Z
END:VEVENT
END:VCALENDAR
