BEGIN:VCALENDAR
VERSION:2.0
PRODID:SchoolNow
CALSCALE:GREGORIAN
BEGIN:VEVENT
UID:06692214-2b9c-11f0-ada5-0a58a9feac02
DTSTAMP:20260421T133510Z
SUMMARY:Elementary Grade Level Concert #2
LOCATION:WHS-1-175 - Auditorium (700)
URL;VALUE=URI:https://www.cusd201.org/manning/calendar/8086500/elementary-g
 rade-level-concert-2
DTSTART:20260312T230000Z
DTEND:20260313T010000Z
END:VEVENT
END:VCALENDAR
