BEGIN:VCALENDAR
VERSION:2.0
PRODID:SchoolNow
CALSCALE:GREGORIAN
BEGIN:VEVENT
UID:0092d71e-2c68-11f0-a337-0ef802f0b25f
DTSTAMP:20260421T133510Z
SUMMARY:No School - Institute Day
URL;VALUE=URI:https://www.cusd201.org/manning/calendar/8093527/no-school-in
 stitute-day
DTSTART;VALUE=DATE:20260105
DTEND;VALUE=DATE:20260106
END:VEVENT
END:VCALENDAR
