BEGIN:VCALENDAR
VERSION:2.0
PRODID:SchoolNow
CALSCALE:GREGORIAN
BEGIN:VEVENT
UID:0092df5c-2c68-11f0-94f5-0ef802f0b25f
DTSTAMP:20260421T133510Z
SUMMARY:No School
URL;VALUE=URI:https://www.cusd201.org/manning/calendar/8093534/no-school
DTSTART;VALUE=DATE:20260406
DTEND;VALUE=DATE:20260407
END:VEVENT
END:VCALENDAR
