BEGIN:VCALENDAR
VERSION:2.0
PRODID:SchoolNow
CALSCALE:GREGORIAN
BEGIN:VEVENT
UID:0092e592-2c68-11f0-a641-0ef802f0b25f
DTSTAMP:20260421T133510Z
SUMMARY:No School - Memorial Day
URL;VALUE=URI:https://www.cusd201.org/manning/calendar/8093536/no-school-me
 morial-day
DTSTART;VALUE=DATE:20260525
DTEND;VALUE=DATE:20260526
END:VEVENT
END:VCALENDAR
