BEGIN:VCALENDAR
VERSION:2.0
PRODID:SchoolNow
CALSCALE:GREGORIAN
BEGIN:VEVENT
UID:0092e6a0-2c68-11f0-b528-0ef802f0b25f
DTSTAMP:20260421T133510Z
SUMMARY:Last Day of School - Early Dismissal
URL;VALUE=URI:https://www.cusd201.org/manning/calendar/8093537/last-day-of-
 school-early-dismissal
DTSTART;VALUE=DATE:20260529
DTEND;VALUE=DATE:20260530
END:VEVENT
END:VCALENDAR
