BEGIN:VCALENDAR
VERSION:2.0
PRODID:SchoolNow
CALSCALE:GREGORIAN
BEGIN:VEVENT
UID:0092e920-2c68-11f0-95fe-0ef802f0b25f
DTSTAMP:20260421T133510Z
SUMMARY:District 201 Fine Arts Festival
LOCATION:WHS-1-175 - Auditorium (700)\, WHS-1-Commons (500)
URL;VALUE=URI:https://www.cusd201.org/manning/calendar/8093539/district-201
 -fine-arts-festival
DTSTART:20260325T233000Z
DTEND:20260326T013000Z
END:VEVENT
END:VCALENDAR
