BEGIN:VCALENDAR
VERSION:2.0
PRODID:SchoolNow
CALSCALE:GREGORIAN
BEGIN:VEVENT
UID:011cf1a6-2c68-11f0-b242-0ef802f0b25f
DTSTAMP:20260421T194011Z
SUMMARY:No School - Winter Break
URL;VALUE=URI:https://www.cusd201.org/manning/calendar/8093545/no-school-wi
 nter-break
DTSTART;VALUE=DATE:20251229
DTEND;VALUE=DATE:20251230
END:VEVENT
END:VCALENDAR
