BEGIN:VCALENDAR
VERSION:2.0
PRODID:SchoolNow
CALSCALE:GREGORIAN
BEGIN:VEVENT
UID:011cf296-2c68-11f0-b45d-0ef802f0b25f
DTSTAMP:20260421T194011Z
SUMMARY:No School - Winter Break
URL;VALUE=URI:https://www.cusd201.org/manning/calendar/8093546/no-school-wi
 nter-break
DTSTART;VALUE=DATE:20251230
DTEND;VALUE=DATE:20251231
END:VEVENT
END:VCALENDAR
