BEGIN:VCALENDAR
VERSION:2.0
PRODID:SchoolNow
CALSCALE:GREGORIAN
BEGIN:VEVENT
UID:011cf732-2c68-11f0-9545-0ef802f0b25f
DTSTAMP:20260421T133510Z
SUMMARY:No School - Spring Break
URL;VALUE=URI:https://www.cusd201.org/manning/calendar/8093551/no-school-sp
 ring-break
DTSTART;VALUE=DATE:20260331
DTEND;VALUE=DATE:20260401
END:VEVENT
END:VCALENDAR
