BEGIN:VCALENDAR
VERSION:2.0
PRODID:SchoolNow
CALSCALE:GREGORIAN
BEGIN:VEVENT
UID:011cfad4-2c68-11f0-80b2-0ef802f0b25f
DTSTAMP:20260421T133510Z
SUMMARY:Emergency School Day
URL;VALUE=URI:https://www.cusd201.org/manning/calendar/8093555/emergency-sc
 hool-day
DTSTART;VALUE=DATE:20260601
DTEND;VALUE=DATE:20260602
END:VEVENT
END:VCALENDAR
