BEGIN:VCALENDAR
VERSION:2.0
PRODID:SchoolNow
CALSCALE:GREGORIAN
BEGIN:VEVENT
UID:011cfebc-2c68-11f0-816f-0ef802f0b25f
DTSTAMP:20260421T133510Z
SUMMARY:Emergency School Day
URL;VALUE=URI:https://www.cusd201.org/manning/calendar/8093559/emergency-sc
 hool-day
DTSTART;VALUE=DATE:20260605
DTEND;VALUE=DATE:20260606
END:VEVENT
END:VCALENDAR
