BEGIN:VCALENDAR
VERSION:2.0
PRODID:SchoolNow
CALSCALE:GREGORIAN
BEGIN:VEVENT
UID:f88bc874-2d33-11f0-aee0-0a58a9feac02
DTSTAMP:20260421T133510Z
SUMMARY:Manning Band & Choir Spring Concert
LOCATION:WHS-1-175 - Auditorium (700)
URL;VALUE=URI:https://www.cusd201.org/manning/calendar/8101114/manning-band
 -choir-spring-concert
DTSTART:20260507T230000Z
DTEND:20260508T000000Z
END:VEVENT
END:VCALENDAR
